BEGIN:VCALENDAR
VERSION:2.0
PRODID:-//ExpressionEngine Easy iCalendar plugin//NONSGML v2.0.1//EN
X-WR-TIMEZONE:America/New_York
X-WR-CALNAME:Upcoming Auctions
BEGIN:VEVENT
UID:160801
DTSTAMP:20260423T140000
DTSTART:20260423T140000
DTEND:20260521T120000
SUMMARY:0 Jackman Road\, Temperance\, Michigan 48182
LOCATION:0 Jackman Road\, Temperance\, MI 48182\, US
DESCRIPTION:66.67% Undivided Interest in 40+/- Acre Temperance Farm at O
 nline Auction
URL:https://www.pamelaroseauction.com/auctions/detail/bw160801
SEQUENCE:1
END:VEVENT
END:VCALENDAR