BEGIN:VCALENDAR
VERSION:2.0
PRODID:-//ExpressionEngine Easy iCalendar plugin//NONSGML v2.0.0//EN
X-WR-TIMEZONE:America/New_York
X-WR-CALNAME:Upcoming Auctions
BEGIN:VEVENT
UID:160855
DTSTAMP:20260421T143000
DTSTART:20260421T143000
DTEND:20260519T120000
SUMMARY:1463 State Route 281\, Custar\, Ohio 43511
LOCATION:1463 State Route 281\, Custar\, OH 43511\, US
DESCRIPTION:Schwab Farm with Farmhouse\, Outbuildings on 10+/- Acres at O
 nline Auction
URL:https://www.pamelaroseauction.com/auctions/detail/bw160855
SEQUENCE:1
END:VEVENT
END:VCALENDAR