BEGIN:VCALENDAR
VERSION:2.0
PRODID:-//ExpressionEngine Easy iCalendar plugin//NONSGML v2.0.0//EN
X-WR-TIMEZONE:America/New_York
X-WR-CALNAME:Upcoming Auctions
BEGIN:VEVENT
UID:61298
DTSTAMP:20210312T120000
DTSTART:20210312T120000
DTEND:20210329T100000
SUMMARY:Monroe Golf and Country Club Surplus Equipment
LOCATION:611 Cole Roadf\, Monroe\, MI 48162\, US
DESCRIPTION:Monroe Golf and Country Club Surplus Auction
URL:https://www.pamelaroseauction.com/auctions/detail/bw61298
SEQUENCE:1
END:VEVENT
END:VCALENDAR