BEGIN:VCALENDAR
VERSION:2.0
PRODID:-//ExpressionEngine Easy iCalendar plugin//NONSGML v2.0.0//EN
X-WR-TIMEZONE:America/New_York
X-WR-CALNAME:Upcoming Auctions
BEGIN:VEVENT
UID:61581
DTSTAMP:20210319T141000
DTSTART:20210319T141000
DTEND:20210406T100000
SUMMARY:Jewelry Store Liquidation - All New In Box
LOCATION:5825 Weckerly Road\, Whitehouse\, OH 43571\, US
DESCRIPTION:Online Auction of Jewelry Store Liquidation! Vivir World Col
 lection!
URL:https://www.pamelaroseauction.com/auctions/detail/bw61581
SEQUENCE:1
END:VEVENT
END:VCALENDAR