BEGIN:VCALENDAR
VERSION:2.0
PRODID:-//ExpressionEngine Easy iCalendar plugin//NONSGML v2.0.0//EN
X-WR-TIMEZONE:America/New_York
X-WR-CALNAME:Upcoming Auctions
BEGIN:VEVENT
UID:61638
DTSTAMP:20210322T110000
DTSTART:20210322T110000
DTEND:20210412T100000
SUMMARY:Vehicle and Premier Furnishings
LOCATION:1101 Graceland Avenue\, Findlay\, OH 45840\, US
DESCRIPTION:Vehicle and Premier Furnishings
URL:https://www.pamelaroseauction.com/auctions/detail/bw61638
SEQUENCE:1
END:VEVENT
END:VCALENDAR