BEGIN:VCALENDAR
VERSION:2.0
PRODID:-//ExpressionEngine Easy iCalendar plugin//NONSGML v2.0.0//EN
X-WR-TIMEZONE:America/New_York
X-WR-CALNAME:Upcoming Auctions
BEGIN:VEVENT
UID:62722
DTSTAMP:20210415T084500
DTSTART:20210415T084500
DTEND:20210504T100000
SUMMARY:Jewelry Store Liquidation #3
LOCATION:5825 Weckerly Road\, Whitehouse\, OH 43571\, US
DESCRIPTION:Jewelry Store Liquidation – All New Items
URL:https://www.pamelaroseauction.com/auctions/detail/bw62722
SEQUENCE:1
END:VEVENT
END:VCALENDAR