BEGIN:VCALENDAR
VERSION:2.0
PRODID:-//ExpressionEngine Easy iCalendar plugin//NONSGML v2.0.0//EN
X-WR-TIMEZONE:America/New_York
X-WR-CALNAME:Upcoming Auctions
BEGIN:VEVENT
UID:62911
DTSTAMP:20210420T093000
DTSTART:20210420T093000
DTEND:20210510T100000
SUMMARY:Toledo Police Seized Vehicles
LOCATION:198 Dura Avenue\, Toledo\, OH 43612\, US
DESCRIPTION:Toledo Police Seized Vehicles
URL:https://www.pamelaroseauction.com/auctions/detail/bw62911
SEQUENCE:1
END:VEVENT
END:VCALENDAR