BEGIN:VCALENDAR
VERSION:2.0
PRODID:-//ExpressionEngine Easy iCalendar plugin//NONSGML v2.0.0//EN
X-WR-TIMEZONE:America/New_York
X-WR-CALNAME:Upcoming Auctions
BEGIN:VEVENT
UID:63597
DTSTAMP:20210505T120000
DTSTART:20210505T120000
DTEND:20210525T080000
SUMMARY:Final Jewelry Store Liquidation
LOCATION:5825 Weckerly Road\, Whitehouse\, OH 43571\, US
DESCRIPTION:Final Jewelry Store Liquidation – Online Auction
URL:https://www.pamelaroseauction.com/auctions/detail/bw63597
SEQUENCE:1
END:VEVENT
END:VCALENDAR