BEGIN:VCALENDAR
VERSION:2.0
PRODID:-//ExpressionEngine Easy iCalendar plugin//NONSGML v2.0.0//EN
X-WR-TIMEZONE:America/New_York
X-WR-CALNAME:Upcoming Auctions
BEGIN:VEVENT
UID:63780
DTSTAMP:20210510T090000
DTSTART:20210510T090000
DTEND:20210524T100000
SUMMARY:May Consignment Auction
LOCATION:5825 Weckerly Road\, Whitehouse\, OH 43571\, US
DESCRIPTION:Electronics\, Household\, Decor\, Collectibles\, Memorabilia –
  Online Auction
URL:https://www.pamelaroseauction.com/auctions/detail/bw63780
SEQUENCE:1
END:VEVENT
END:VCALENDAR