BEGIN:VCALENDAR
VERSION:2.0
PRODID:-//ExpressionEngine Easy iCalendar plugin//NONSGML v2.0.0//EN
X-WR-TIMEZONE:America/New_York
X-WR-CALNAME:Upcoming Auctions
BEGIN:VEVENT
UID:65640
DTSTAMP:20210622T120000
DTSTART:20210622T120000
DTEND:20210712T100000
SUMMARY:1990 Mercury Marquis Station Wagon
LOCATION:5825 Weckerly Road\, Whitehouse\, OH 43571\, US
DESCRIPTION:1990 Mercury Marquis Station Wagon
URL:https://www.pamelaroseauction.com/auctions/detail/bw65640
SEQUENCE:1
END:VEVENT
END:VCALENDAR