BEGIN:VCALENDAR
VERSION:2.0
PRODID:-//ExpressionEngine Easy iCalendar plugin//NONSGML v2.0.0//EN
X-WR-TIMEZONE:America/New_York
X-WR-CALNAME:Upcoming Auctions
BEGIN:VEVENT
UID:65933
DTSTAMP:20210629T120000
DTSTART:20210629T120000
DTEND:20210713T100000
SUMMARY:1988 Mercedes-Benz 560 Passenger Car
LOCATION:1905 Smith Road\, Temperance\, MI 48182\, US
DESCRIPTION:1988 Mercedes-Benz 560
URL:https://www.pamelaroseauction.com/auctions/detail/bw65933
SEQUENCE:1
END:VEVENT
END:VCALENDAR