BEGIN:VCALENDAR
VERSION:2.0
PRODID:-//ExpressionEngine Easy iCalendar plugin//NONSGML v2.0.0//EN
X-WR-TIMEZONE:America/New_York
X-WR-CALNAME:Upcoming Auctions
BEGIN:VEVENT
UID:68551
DTSTAMP:20210825T130000
DTSTART:20210825T130000
DTEND:20210902T100000
SUMMARY:Luxury 38' Jayco Pinnacle 5th Wheel
LOCATION:{location}
DESCRIPTION:Luxury 38' Jayco Pinnacle 5th Wheel - Online Auction
URL:https://www.pamelaroseauction.com/auctions/detail/bw68551
SEQUENCE:1
END:VEVENT
END:VCALENDAR